BEGIN:VCALENDAR
VERSION:2.0
PRODID:-//National Shrine of the Immaculate Conception - ECPv4.8.2//NONSGML v1.0//EN
CALSCALE:GREGORIAN
METHOD:PUBLISH
X-WR-CALNAME:National Shrine of the Immaculate Conception
X-ORIGINAL-URL:https://www.nationalshrine.org
X-WR-CALDESC:Events for National Shrine of the Immaculate Conception
BEGIN:VEVENT
DTSTART;VALUE=DATE:20200203
DTEND;VALUE=DATE:20200204
DTSTAMP:20260420T160631
CREATED:20200128T205405Z
LAST-MODIFIED:20241217T185657Z
UID:37123-1580688000-1580774399@www.nationalshrine.org
SUMMARY:The Feast of Saint Blaise and Blessing of the Throats
DESCRIPTION:Join us on Monday\, February 3rd for the Feast of Saint Blaise. During all Masses\, the faithful will have the opportunity to participate in the Blessing of the Throats. \nMass Times \nMorning:\n7:00\, 7:30\, 8:00\, 8:30 \nAfternoon:\n12:10 and 5:15 \n\n									   \n									   \n									   \n									   \n									   \n									   \n									
URL:https://www.nationalshrine.org/event/the-feast-of-saint-blaise-and-blessing-of-the-throats/
LOCATION:Crypt Church
CATEGORIES:All Events,Liturgy
ATTACH;FMTTYPE=image/jpeg:https://www.nationalshrine.org/wp-content/uploads/Basilica-Winter-2020-19.jpg
END:VEVENT
END:VCALENDAR