BEGIN:VCALENDAR
VERSION:2.0
PRODID:-//National Shrine of the Immaculate Conception - ECPv4.8.2//NONSGML v1.0//EN
CALSCALE:GREGORIAN
METHOD:PUBLISH
X-WR-CALNAME:National Shrine of the Immaculate Conception
X-ORIGINAL-URL:https://www.nationalshrine.org
X-WR-CALDESC:Events for National Shrine of the Immaculate Conception
BEGIN:VEVENT
DTSTART;VALUE=DATE:20261126
DTEND;VALUE=DATE:20261127
DTSTAMP:20260421T091634
CREATED:20260219T235038Z
LAST-MODIFIED:20260220T214822Z
UID:110063-1795651200-1795737599@www.nationalshrine.org
SUMMARY:Thanksgiving Day
DESCRIPTION:The Basilica is open on Thanksgiving Day. We invite you to join us this day and give thanks to God in the Holy Mass\, for the sacrament in which we partake of\, the Holy Eucharist\, means first of all\, thanksgiving. \n\n\n\nTime:\nLocation and Additional Information:\n\n\n9:00 a.m.\nMass – Crypt Church\n\n\n12:00 p.m.\nMass – Great Upper Church\n\n\n\nPlease note that on Thanksgiving Day there are no Confessions and the Shrine Shops will be closed all day. The Basilica will close at 3:00 PM. \n\n									   \n									   \n									   \n									   \n									   \n									   \n									
URL:https://www.nationalshrine.org/event/thanksgiving-day-2026/
LOCATION:The Basilica
CATEGORIES:All Events,Special
ATTACH;FMTTYPE=image/jpeg:https://www.nationalshrine.org/wp-content/uploads/The-Basilica-Exterior-in-Fall_banner.jpg
END:VEVENT
END:VCALENDAR