BEGIN:VCALENDAR
VERSION:2.0
PRODID:-//National Shrine of the Immaculate Conception - ECPv4.8.2//NONSGML v1.0//EN
CALSCALE:GREGORIAN
METHOD:PUBLISH
X-WR-CALNAME:National Shrine of the Immaculate Conception
X-ORIGINAL-URL:https://www.nationalshrine.org
X-WR-CALDESC:Events for National Shrine of the Immaculate Conception
BEGIN:VEVENT
DTSTART;VALUE=DATE:20210523
DTEND;VALUE=DATE:20210524
DTSTAMP:20260421T193858
CREATED:20210319T200056Z
LAST-MODIFIED:20241217T185239Z
UID:48056-1621728000-1621814399@www.nationalshrine.org
SUMMARY:Solemnity of Pentecost
DESCRIPTION:After the Lord ascended into heaven\, the Holy Spirit descended on the apostles as they were in Jerusalem celebrating the Feast of Weeks. Through the Holy Spirit’s power\, Peter preached his first sermon\, sharing the truth of the gospel and bringing many people to the faith. We invite you to join us for the celebration of Pentecost Sunday on Sunday\, May 23. \nMasses\n4:30 p.m. (Saturday\, May 22) \n7:30 a.m. \n9:00 a.m. \n12:00 noon —Solemn Mass with Schola (livestreamed on www.nationalshrine.org/mass) \n2:30 p.m. — Spanish (livestreamed on www.nationalshrine.org/mass) \n4:30 p.m. \nDue to ongoing restrictions due to COVID-19 that limit the number of attendees per Mass\, advance registration is required. To register please click here. \n\n									   \n									   \n									   \n									   \n									   \n									   \n									
URL:https://www.nationalshrine.org/event/solemnity-of-pentecost/
LOCATION:Great Upper Church
CATEGORIES:All Events,Liturgy
ATTACH;FMTTYPE=image/jpeg:https://www.nationalshrine.org/wp-content/uploads/Basilica-Winter-2021-20.jpg
END:VEVENT
END:VCALENDAR