BEGIN:VCALENDAR
VERSION:2.0
PRODID:-//National Shrine of the Immaculate Conception - ECPv4.8.2//NONSGML v1.0//EN
CALSCALE:GREGORIAN
METHOD:PUBLISH
X-WR-CALNAME:National Shrine of the Immaculate Conception
X-ORIGINAL-URL:https://www.nationalshrine.org
X-WR-CALDESC:Events for National Shrine of the Immaculate Conception
BEGIN:VEVENT
DTSTART;TZID=America/New_York:20221012T110000
DTEND;TZID=America/New_York:20221012T110000
DTSTAMP:20260426T032322
CREATED:20220822T181004Z
LAST-MODIFIED:20220823T162101Z
UID:61583-1665572400-1665572400@www.nationalshrine.org
SUMMARY:Our Lady of Aparecida Anniversary Mass
DESCRIPTION:Please join the Brazilian-American Community in celebrating the Anniversary and Feast of Our Lady of Aparecida on Wednesday\, October 12\, 2022\, at 11:00 a.m.\, at a Mass celebrated in Portuguese by Cardinal Seán O’Malley\, Archbishop of Boston. \nMore information about the Brazilian-American Community’s efforts to bring Our Lady of Aparecida to the National Shrine is available at www.nationalshrine.org/aparecida. \n\n									   \n									   \n									   \n									   \n									   \n									   \n									
URL:https://www.nationalshrine.org/event/our-lady-of-aparecida-anniversary-mass/
LOCATION:Blessed Sacrament Chapel
CATEGORIES:All Events,Liturgy
ATTACH;FMTTYPE=image/png:https://www.nationalshrine.org/wp-content/uploads/Basilica-Summer-2022-2.png
END:VEVENT
END:VCALENDAR