BEGIN:VCALENDAR
VERSION:2.0
PRODID:-//National Shrine of the Immaculate Conception - ECPv4.8.2//NONSGML v1.0//EN
CALSCALE:GREGORIAN
METHOD:PUBLISH
X-WR-CALNAME:National Shrine of the Immaculate Conception
X-ORIGINAL-URL:https://www.nationalshrine.org
X-WR-CALDESC:Events for National Shrine of the Immaculate Conception
BEGIN:VEVENT
DTSTART;TZID=America/New_York:20240822T171500
DTEND;TZID=America/New_York:20240822T171500
DTSTAMP:20260424T110342
CREATED:20240731T193050Z
LAST-MODIFIED:20240819T174917Z
UID:85136-1724346900-1724346900@www.nationalshrine.org
SUMMARY:Ordination Centenary Celebration - Memorial of the Queenship of the Blessed Virgin Mary
DESCRIPTION:This historic image is the property of the National Shrine Archives and protected by copyright. No permission\, either express or implied\, is granted for the electronic transmission\, storage\, retrieval\, or reproduction of this photograph\, other than that related to standard caching practices of web browsers. No parties/individuals visiting or viewing this image may otherwise copy\, modify\, publish\, transmit\, or distribute the contents of the photograph found herein.\n\nOn Easter Sunday 1924\, the liturgical life of the National Shrine began with the celebration of the first Mass in the Crypt Church. Three months later\, in June 1924\, the first ordinations were conferred at the National Shrine. Since that date\, more than 800\,000 Masses have been celebrated along with nearly seven thousand ordinations. \nAs part of our continuing celebration of One Hundred Years of Worship at the National Shrine\, on Thursday\, August 22\, 2024\, the Memorial of the Queenship of the Blessed Virgin Mary\, His Eminence\, Wilton Cardinal Gregory\, Archbishop of Washington and Chair of the National Shrine Board of Trustees\, will celebrate a Mass of Thanksgiving\, at 5:15 p.m. in the Crypt Church. On this Marian feast day\, at this noble shrine\, in honor of our national patroness\, all priests who received orders (tonsure to priesthood and bishop) at the National Shrine and all those who wish to celebrate their priestly ministry as part of this holy centenary are invited to concelebrate.  \nNote: This Mass will be livestreamed on nationalshrine.org/mass. \n\n									   \n									   \n									   \n									   \n									   \n									   \n									
URL:https://www.nationalshrine.org/event/ordination-centenary-celebration/
LOCATION:Crypt Church
CATEGORIES:All Events,Liturgy,Special
END:VEVENT
END:VCALENDAR