BEGIN:VCALENDAR
VERSION:2.0
PRODID:-//National Shrine of the Immaculate Conception - ECPv4.8.2//NONSGML v1.0//EN
CALSCALE:GREGORIAN
METHOD:PUBLISH
X-WR-CALNAME:National Shrine of the Immaculate Conception
X-ORIGINAL-URL:https://www.nationalshrine.org
X-WR-CALDESC:Events for National Shrine of the Immaculate Conception
BEGIN:VEVENT
DTSTART;TZID=America/New_York:20230105T121000
DTEND;TZID=America/New_York:20230105T121000
DTSTAMP:20260424T034755
CREATED:20230103T214530Z
LAST-MODIFIED:20230222T000119Z
UID:65376-1672920600-1672920600@www.nationalshrine.org
SUMMARY:Mass of Thanksgiving for the Life of Pope Benedict XVI
DESCRIPTION:Please join us at 12:10 p.m. on Thursday\, January 5th\, for a Mass of Thanksgiving for the Life of Pope Benedict XVI. Archbishop Christophe Pierre\, Apostolic Nuncio to the United States\, will celebrate the Mass in Basilica’s Great Upper Church in honor of the late Holy Father. The Mass will be livestreamed on www.nationalshrine.org/mass. View press release here. \n  \nDownload the Mass Leaflet\n\n									   \n									   \n									   \n									   \n									   \n									   \n									
URL:https://www.nationalshrine.org/event/mass-of-thanksgiving-for-the-life-of-pope-benedict-xvi/
LOCATION:Great Upper Church
CATEGORIES:All Events,Liturgy
ATTACH;FMTTYPE=image/jpeg:https://www.nationalshrine.org/wp-content/uploads/Benedict-banner-Horizontal.jpg
END:VEVENT
END:VCALENDAR