BEGIN:VCALENDAR
VERSION:2.0
PRODID:-//National Shrine of the Immaculate Conception - ECPv4.8.2//NONSGML v1.0//EN
CALSCALE:GREGORIAN
METHOD:PUBLISH
X-WR-CALNAME:National Shrine of the Immaculate Conception
X-ORIGINAL-URL:https://www.nationalshrine.org
X-WR-CALDESC:Events for National Shrine of the Immaculate Conception
BEGIN:VEVENT
DTSTART;VALUE=DATE:20240622
DTEND;VALUE=DATE:20240623
DTSTAMP:20260421T120850
CREATED:20240112T201928Z
LAST-MODIFIED:20241217T184522Z
UID:78086-1719014400-1719100799@www.nationalshrine.org
SUMMARY:Filipino Catholic Community Pilgrimage
DESCRIPTION:On Saturday\, June 22\, 2024\, the Filipino Catholic Community Pilgrimage will take place at the Basilica of the National Shrine of the Immaculate Conception. Join thousands of pilgrims as they honor Our Lady of Antipolo\, also known as Our Lady Peace and Good Voyage. \n\n									   \n									   \n									   \n									   \n									   \n									   \n									
URL:https://www.nationalshrine.org/event/filipino-catholic-community-pilgrimage-2024/
LOCATION:The Basilica
CATEGORIES:All Events,Pilgrimage
ATTACH;FMTTYPE=image/png:https://www.nationalshrine.org/wp-content/uploads/Filipino-Catholic-Community-Pilgrimage.png
END:VEVENT
END:VCALENDAR