BEGIN:VCALENDAR
VERSION:2.0
PRODID:-//National Shrine of the Immaculate Conception - ECPv4.8.2//NONSGML v1.0//EN
CALSCALE:GREGORIAN
METHOD:PUBLISH
X-WR-CALNAME:National Shrine of the Immaculate Conception
X-ORIGINAL-URL:https://www.nationalshrine.org
X-WR-CALDESC:Events for National Shrine of the Immaculate Conception
BEGIN:VEVENT
DTSTART;VALUE=DATE:20260208
DTEND;VALUE=DATE:20260209
DTSTAMP:20260423T024817
CREATED:20251125T050426Z
LAST-MODIFIED:20251205T212934Z
UID:106142-1770508800-1770595199@www.nationalshrine.org
SUMMARY:Fifth Sunday in Ordinary Time
DESCRIPTION:We invite you to join us in celebrating the Fifth Sunday in Ordinary Time. \nSaturday\, February 7\n\n\n\nTime:\nLocation and additional information:\n\n\n4:30 p.m.\nVigil Mass – Great Upper Church\n\n\n\nSunday\, February 8\n\n\n\nTime:\nLocation and additional information:\n\n\n7:30 a.m.\nMass – Crypt Church\n\n\n9:00 a.m.\nMass – Great Upper Church\n\n\n10:30 a.m.\nMass – Great Upper Church\n\n\n12:00 Noon*\nSolemn Mass – Great Upper Church\n\n\n2:30 p.m.*\nMisa Solemne – Gran Iglesia Superior\n\n\n4:30 p.m.\nMass – Great Upper Church\n\n\n\n*Livestreamed on www.nationalshrine.org/mass. \nConfessions will be heard on Sunday at the regularly scheduled hours: 10:00 a.m. to 12:00 p.m. (Noon)\, 1:15 p.m. to 2:15 p.m. (en Español)\, and 2:30 p.m. to 4:30 p.m. \n\n									   \n									   \n									   \n									   \n									   \n									   \n									
URL:https://www.nationalshrine.org/event/fifth-sunday-in-ordinary-time-2026/
LOCATION:The Basilica
CATEGORIES:All Events,Liturgy
ATTACH;FMTTYPE=image/png:https://www.nationalshrine.org/wp-content/uploads/OT-Sunday-event-banner-2024.png
END:VEVENT
END:VCALENDAR