BEGIN:VCALENDAR
VERSION:2.0
PRODID:-//National Shrine of the Immaculate Conception - ECPv4.8.2//NONSGML v1.0//EN
CALSCALE:GREGORIAN
METHOD:PUBLISH
X-WR-CALNAME:National Shrine of the Immaculate Conception
X-ORIGINAL-URL:https://www.nationalshrine.org
X-WR-CALDESC:Events for National Shrine of the Immaculate Conception
BEGIN:VEVENT
DTSTART;VALUE=DATE:20240407
DTEND;VALUE=DATE:20240408
DTSTAMP:20260420T060824
CREATED:20240112T182534Z
LAST-MODIFIED:20241217T184538Z
UID:78030-1712448000-1712534399@www.nationalshrine.org
SUMMARY:Divine Mercy Sunday
DESCRIPTION:As we conclude the Easter Octave\, we celebrate and give thanks to our almighty God for His mercy that was bestowed upon us through the death and resurrection of Jesus Christ. \nSaturday\, April 6\n\n\n\nTime:\nLocation and additional information:\n\n\n4:30 p.m.\nVigil Mass – Great Upper Church\n\n\n\nSunday\, April 7\n\n\n\nTime:\nLocation and additional information:\n\n\n7:30 a.m.\nMass – Crypt Church\n\n\n9:00 a.m.\nMass – Great Upper Church\n\n\n10:30 a.m.\nMass – Great Upper Church\n\n\n12 Noon*\nSolemn Mass of Divine Mercy – Great Upper Church\n\n\n2:30 p.m.*\nMisa – Iglesia Superior\n\n\n4:00 p.m.*\nSolemn Vespers – Great Upper Church\n\n\n4:30 p.m.\nMass – Great Upper Church\n\n\n6:00 p.m.*\nOctave Day of Easter Organ Recital – Great Upper Church\n\n\n\n*Livestreamed on www.nationalshrine.org/mass \nConfessions will be heard on Sunday at the regularly scheduled hours: 10:00 a.m. to 12:00 p.m. (Noon)\, 1:15 p.m. to 2:15 p.m. (en Español)\, and 2:30 p.m. to 4:30 p.m. \n\n									   \n									   \n									   \n									   \n									   \n									   \n									
URL:https://www.nationalshrine.org/event/divine-mercy-sunday-2024/
LOCATION:The Basilica
CATEGORIES:All Events,Liturgy
ATTACH;FMTTYPE=image/png:https://www.nationalshrine.org/wp-content/uploads/Divine-Mercy-Sunday.png
END:VEVENT
END:VCALENDAR