BEGIN:VCALENDAR
VERSION:2.0
PRODID:-//National Shrine of the Immaculate Conception - ECPv4.8.2//NONSGML v1.0//EN
CALSCALE:GREGORIAN
METHOD:PUBLISH
X-WR-CALNAME:National Shrine of the Immaculate Conception
X-ORIGINAL-URL:https://www.nationalshrine.org
X-WR-CALDESC:Events for National Shrine of the Immaculate Conception
BEGIN:VEVENT
DTSTART;TZID=America/New_York:20260719T180000
DTEND;TZID=America/New_York:20260719T180000
DTSTAMP:20260424T222827
CREATED:20260420T184032Z
LAST-MODIFIED:20260424T181115Z
UID:111967-1784484000-1784484000@www.nationalshrine.org
SUMMARY:2026 Summer Organ Recital Series: Woosug Kang
DESCRIPTION:Join the Basilica for the third performance in our 2026 Summer Organ Recital Series on July 19 at 6:00 p.m. in the Great Upper Church. Woosug Kang of Nashville\, TN\, will perform. \n\n\n\nUpcoming Concerts\n\n\nJuly 26\nGabriele Studer – Alba\, Italy\n\n\nAugust 2\nLynn Trapp – Baltimore\, MD\n\n\nAugust 9\nJohn Mitchell – Reston\, VA\n\n\nAugust 16\nIris Lan – Washington\, D.C.\n\n\nAugust 23\nPeter Latona – Washington\, D.C.\n\n\nAugust 30\nAdam Chlebek – Washington\, D.C.\n\n\n\n\n									   \n									   \n									   \n									   \n									   \n									   \n									
URL:https://www.nationalshrine.org/event/2026-summer-organ-recital-series-woosug-kang/
LOCATION:Great Upper Church
CATEGORIES:All Events,Music
ATTACH;FMTTYPE=image/jpeg:https://www.nationalshrine.org/wp-content/uploads/OrganRecitalSeries-3_banner.jpg
END:VEVENT
END:VCALENDAR