BEGIN:VCALENDAR
VERSION:2.0
PRODID:-//National Shrine of the Immaculate Conception - ECPv4.8.2//NONSGML v1.0//EN
CALSCALE:GREGORIAN
METHOD:PUBLISH
X-WR-CALNAME:National Shrine of the Immaculate Conception
X-ORIGINAL-URL:https://www.nationalshrine.org
X-WR-CALDESC:Events for National Shrine of the Immaculate Conception
BEGIN:VEVENT
DTSTART;TZID=America/New_York:20260802T180000
DTEND;TZID=America/New_York:20260802T180000
DTSTAMP:20260425T010823
CREATED:20260420T193502Z
LAST-MODIFIED:20260421T162534Z
UID:111977-1785693600-1785693600@www.nationalshrine.org
SUMMARY:2026 Summer Organ Recital Series: Lynn Trapp
DESCRIPTION:Join the Basilica for the fifth performance in our 2026 Summer Organ Recital Series on August 2 at 6:00 p.m. in the Great Upper Church. Lynn Trapp of Baltimore\, MD\, will perform. \n\n\n\nUpcoming Concerts\n\n\nAugust 9\nJohn Mitchell – Reston\, VA\n\n\nAugust 16\nIris Lan – Washington\, D.C.\n\n\nAugust 23\nPeter Latona – Washington\, D.C.\n\n\nAugust 30\nAdam Chlebek – Washington\, D.C.\n\n\n\n\n									   \n									   \n									   \n									   \n									   \n									   \n									
URL:https://www.nationalshrine.org/event/2026-summer-organ-recital-series-lynn-trapp/
LOCATION:Great Upper Church
CATEGORIES:All Events,Music
ATTACH;FMTTYPE=image/jpeg:https://www.nationalshrine.org/wp-content/uploads/OrganRecitalSeries-5_banner.jpg
END:VEVENT
END:VCALENDAR