BEGIN:VCALENDAR
VERSION:2.0
PRODID:-//National Shrine of the Immaculate Conception - ECPv4.8.2//NONSGML v1.0//EN
CALSCALE:GREGORIAN
METHOD:PUBLISH
X-WR-CALNAME:National Shrine of the Immaculate Conception
X-ORIGINAL-URL:https://www.nationalshrine.org
X-WR-CALDESC:Events for National Shrine of the Immaculate Conception
BEGIN:VEVENT
DTSTART;TZID=America/New_York:20260726T180000
DTEND;TZID=America/New_York:20260726T180000
DTSTAMP:20260425T011437
CREATED:20260420T191044Z
LAST-MODIFIED:20260421T162530Z
UID:111972-1785088800-1785088800@www.nationalshrine.org
SUMMARY:2026 Summer Organ Recital Series: Gabriele Studer
DESCRIPTION:Join the Basilica for the fourth performance in our 2026 Summer Organ Recital Series on July 26 at 6:00 p.m. in the Great Upper Church. Gabriele Studer of Alba\, Italy\, will perform. \n\n\n\nUpcoming Concerts\n\n\nAugust 2\nLynn Trapp – Baltimore\, MD\n\n\nAugust 9\nJohn Mitchell – Reston\, VA\n\n\nAugust 16\nIris Lan – Washington\, D.C.\n\n\nAugust 23\nPeter Latona – Washington\, D.C.\n\n\nAugust 30\nAdam Chlebek – Washington\, D.C.\n\n\n\n\n									   \n									   \n									   \n									   \n									   \n									   \n									
URL:https://www.nationalshrine.org/event/2026-summer-organ-recital-series-gabriele-studer/
LOCATION:Great Upper Church
CATEGORIES:All Events,Music
ATTACH;FMTTYPE=image/jpeg:https://www.nationalshrine.org/wp-content/uploads/OrganRecitalSeries-4_banner.jpg
END:VEVENT
END:VCALENDAR