BEGIN:VCALENDAR
VERSION:2.0
PRODID:-//National Shrine of the Immaculate Conception - ECPv4.8.2//NONSGML v1.0//EN
CALSCALE:GREGORIAN
METHOD:PUBLISH
X-WR-CALNAME:National Shrine of the Immaculate Conception
X-ORIGINAL-URL:https://www.nationalshrine.org
X-WR-CALDESC:Events for National Shrine of the Immaculate Conception
BEGIN:VEVENT
DTSTART;TZID=America/New_York:20260712T180000
DTEND;TZID=America/New_York:20260712T180000
DTSTAMP:20260424T222858
CREATED:20260420T182650Z
LAST-MODIFIED:20260424T181037Z
UID:111960-1783879200-1783879200@www.nationalshrine.org
SUMMARY:2026 Summer Organ Recital Series: Benjamin LaPrairie
DESCRIPTION:Join the Basilica for the second performance in our 2026 Summer Organ Recital Series on July 12 at 6:00 p.m. in the Great Upper Church. Benjamin LaPrairie of Washington\, D.C.\, the Associate Director of Music at the Basilica\, will perform. \n\nBenjamin LaPrairie\nBenjamin LaPrairie serves as Associate Director of Music at the Basilica of the National Shrine of the Immaculate Conception in Washington\, D.C. Since 2011\, he has assisted in the leadership of the music department and has regularly accompanied daily\, Sunday\, and other special Masses throughout the year. Notable liturgies include the Canonization Mass of Saint Junípero Serra\, celebrated by Pope Francis\, and the Funeral Mass of Supreme Court Justice Antonin Scalia. In May of 2019\, Benjamin performed with the Choir of the Basilica in concerts and liturgies in Rome for the commemoration of 35 years of diplomatic relations between the United States and the Holy See. Previous posts include Principal Organist at St. Dominic Catholic Church in Washington\, D.C.\, and Director of Music at St. Patrick Catholic Church in St. Charles\, Illinois. \nBenjamin has also composed works which have been performed by the Choir\, Brass\, and Orchestra of the Basilica\, and have been recorded and broadcast worldwide on EWTN\, Salt & Light Media\, and CatholicTV. His setting of Christus Vincit was premiered upon the entrance of Pope Francis into the Great Upper Church of the National Shrine in September of 2015. Recent works include a new setting of Ye Sons and Daughters for the Choir and Orchestra of the Basilica\, and a setting of Joy to the World for the choirs and orchestra of The Catholic University of America. As an organist\, Benjamin has performed throughout the United States and abroad\, and has been featured as a soloist with the Pine Mountain Music Festival\, at Boardwalk Hall in Atlantic City\, NJ\, at the Kennedy Center in Washington\, D.C.\, the Eccles Organ Festival at the Cathedral of the Madeleine in Salt Lake City\, UT\, and the Sacra Liturgia Conference at St. Patrick Seminary in San Francisco\, CA. \nA native of Michigan\, Benjamin is a graduate of the University of Michigan School of Music\, Theater\, and Dance\, where he studied organ with Robert Glasgow. He received a Master of Music degree from the Peabody Conservatory of Music\, where he studied organ with John Walker\, and was the recipient of the Bruce R. Eicher Prize in Organ. In the fall of 2019\, Benjamin was appointed Lecturer in Organ at The Catholic University of America Rome School of Music\, Drama\, and Art\, and in 2022\, he was invited to join the board of the Catholic Sacred Music Project\, under the patronage of Robert Cardinal Sarah. \n\n\n\nUpcoming Concerts\n\n\nJuly 19\nWoosug Kang – Nashville\, TN\n\n\nJuly 26\nGabriele Studer – Alba\, Italy\n\n\nAugust 2\nLynn Trapp – Baltimore\, MD\n\n\nAugust 9\nJohn Mitchell – Reston\, VA\n\n\nAugust 16\nIris Lan – Washington\, D.C.\n\n\nAugust 23\nPeter Latona – Washington\, D.C.\n\n\nAugust 30\nAdam Chlebek – Washington\, D.C.\n\n\n\n\n									   \n									   \n									   \n									   \n									   \n									   \n									
URL:https://www.nationalshrine.org/event/2026-summer-organ-recital-series-benjamin-laprairie/
LOCATION:Great Upper Church
CATEGORIES:All Events,Music
ATTACH;FMTTYPE=image/jpeg:https://www.nationalshrine.org/wp-content/uploads/Ben-LaPrairie-playing-organ_banner.jpg
END:VEVENT
END:VCALENDAR